BEGIN:VCALENDAR
VERSION:2.0
PRODID:-// - ECPv6.15.20//NONSGML v1.0//EN
CALSCALE:GREGORIAN
METHOD:PUBLISH
X-ORIGINAL-URL:https://wecanfoil.org
X-WR-CALDESC:Events for 
REFRESH-INTERVAL;VALUE=DURATION:PT1H
X-Robots-Tag:noindex
X-PUBLISHED-TTL:PT1H
BEGIN:VTIMEZONE
TZID:America/Toronto
BEGIN:DAYLIGHT
TZOFFSETFROM:-0500
TZOFFSETTO:-0400
TZNAME:EDT
DTSTART:20220313T070000
END:DAYLIGHT
BEGIN:STANDARD
TZOFFSETFROM:-0400
TZOFFSETTO:-0500
TZNAME:EST
DTSTART:20221106T060000
END:STANDARD
BEGIN:DAYLIGHT
TZOFFSETFROM:-0500
TZOFFSETTO:-0400
TZNAME:EDT
DTSTART:20230312T070000
END:DAYLIGHT
BEGIN:STANDARD
TZOFFSETFROM:-0400
TZOFFSETTO:-0500
TZNAME:EST
DTSTART:20231105T060000
END:STANDARD
BEGIN:DAYLIGHT
TZOFFSETFROM:-0500
TZOFFSETTO:-0400
TZNAME:EDT
DTSTART:20240310T070000
END:DAYLIGHT
BEGIN:STANDARD
TZOFFSETFROM:-0400
TZOFFSETTO:-0500
TZNAME:EST
DTSTART:20241103T060000
END:STANDARD
END:VTIMEZONE
BEGIN:VEVENT
DTSTART;VALUE=DATE:20230527
DTEND;VALUE=DATE:20230530
DTSTAMP:20260424T030548
CREATED:20230414T103554Z
LAST-MODIFIED:20230601T231447Z
UID:10000005-1685145600-1685404799@wecanfoil.org
SUMMARY:Foiling Skills Development Clinic
DESCRIPTION:Welcoming all sailors in 3 levels: \n\nStarting to foil: For those who are getting started and want to work on consistent foiling\, take off\, downwind & upwind.\nStarting to foil gybe & tack: For those working on their foiling gybes\, foiling tacks to achieve a dry lap.\nDry laps: Improve your performance during your dry laps.\n\nSchedule: \nFriday: 4pm-7pm. Check in and brief on clinic. Casual sailing to tune up boats. \nSat & Sun: 10am-4pm.
URL:https://wecanfoil.org/event/foiling-skills-development-clinic/
LOCATION:Pointe Claire Yacht Club\, 1 av. Cartier\, Pointe Claire\, QC\, H9S 4R3\, Canada
CATEGORIES:Training Camps
ATTACH;FMTTYPE=image/png:https://wecanfoil.org/wp-content/uploads/2023/04/weCANfoil_logo.png
ORGANIZER;CN="weCANfoil":MAILTO:events@wecanfoil.org
GEO:45.4284588;-73.8219542
X-APPLE-STRUCTURED-LOCATION;VALUE=URI;X-ADDRESS=Pointe Claire Yacht Club 1 av. Cartier Pointe Claire QC H9S 4R3 Canada;X-APPLE-RADIUS=500;X-TITLE=1 av. Cartier:geo:-73.8219542,45.4284588
END:VEVENT
BEGIN:VEVENT
DTSTART;TZID=America/Toronto:20230524T100000
DTEND;TZID=America/Toronto:20230526T150000
DTSTAMP:20260424T030548
CREATED:20230414T102608Z
LAST-MODIFIED:20230426T220547Z
UID:10000004-1684922400-1685113200@wecanfoil.org
SUMMARY:Foiling coach clinic
DESCRIPTION:WeCANFoil\, in partnership with Sail Canada and Voile Quebec\, are hosting a Canadian Foiling Development clinic in Montréal. \nApplications are open to any existing registered certified Sail Canada Instructors/Coaches who are keen to develop their instructor certifications as a new Foiling Instructor\, and aid in the development of Sail Canada foiling development curriculum. Applications are due no later than April 20\, 2023. \nNo foiling experience is required for attendance at this clinic. \nApplication is required for attendance\, if successful\, an invitation for registration will be shared with you. \nRegistration for this will be $400.00. \nBilleting or travel subsidies may be available. \nInstructors who are interested in further skill development are invited to attend May 26-28 for a Sail Canada foiling sailing skills development clinic and pilot. \nPlease complete the form and be sure to include a cover letter outlining your experience and why you would make a great candidate for this clinic.
URL:https://wecanfoil.org/event/foiling-coach-clinic/
LOCATION:Pointe Claire Yacht Club\, 1 av. Cartier\, Pointe Claire\, QC\, H9S 4R3\, Canada
CATEGORIES:Coaching clinics
ATTACH;FMTTYPE=image/jpeg:https://wecanfoil.org/wp-content/uploads/2023/04/Foiling-Coach-Clinic-e1682546737256.jpeg
ORGANIZER;CN="weCANfoil":MAILTO:events@wecanfoil.org
GEO:45.4284588;-73.8219542
X-APPLE-STRUCTURED-LOCATION;VALUE=URI;X-ADDRESS=Pointe Claire Yacht Club 1 av. Cartier Pointe Claire QC H9S 4R3 Canada;X-APPLE-RADIUS=500;X-TITLE=1 av. Cartier:geo:-73.8219542,45.4284588
END:VEVENT
END:VCALENDAR