BEGIN:VCALENDAR
VERSION:2.0
PRODID:-// - ECPv6.15.20//NONSGML v1.0//EN
CALSCALE:GREGORIAN
METHOD:PUBLISH
X-ORIGINAL-URL:https://wecanfoil.org
X-WR-CALDESC:Events for 
REFRESH-INTERVAL;VALUE=DURATION:PT1H
X-Robots-Tag:noindex
X-PUBLISHED-TTL:PT1H
BEGIN:VTIMEZONE
TZID:America/Toronto
BEGIN:DAYLIGHT
TZOFFSETFROM:-0500
TZOFFSETTO:-0400
TZNAME:EDT
DTSTART:20220313T070000
END:DAYLIGHT
BEGIN:STANDARD
TZOFFSETFROM:-0400
TZOFFSETTO:-0500
TZNAME:EST
DTSTART:20221106T060000
END:STANDARD
BEGIN:DAYLIGHT
TZOFFSETFROM:-0500
TZOFFSETTO:-0400
TZNAME:EDT
DTSTART:20230312T070000
END:DAYLIGHT
BEGIN:STANDARD
TZOFFSETFROM:-0400
TZOFFSETTO:-0500
TZNAME:EST
DTSTART:20231105T060000
END:STANDARD
BEGIN:DAYLIGHT
TZOFFSETFROM:-0500
TZOFFSETTO:-0400
TZNAME:EDT
DTSTART:20240310T070000
END:DAYLIGHT
BEGIN:STANDARD
TZOFFSETFROM:-0400
TZOFFSETTO:-0500
TZNAME:EST
DTSTART:20241103T060000
END:STANDARD
END:VTIMEZONE
BEGIN:VEVENT
DTSTART;TZID=America/Toronto:20230819T110000
DTEND;TZID=America/Toronto:20230819T130000
DTSTAMP:20260424T015547
CREATED:20230816T201013Z
LAST-MODIFIED:20230816T201025Z
UID:10000042-1692442800-1692450000@wecanfoil.org
SUMMARY:Waszp Demo - Kingston - FREE
DESCRIPTION:Come and get a taste of foiling in Kingston with coach Sue Fraser! \n11am to 1pm at Kingston Yacht Club
URL:https://wecanfoil.org/event/waszp-demo-kingston-free-4/
LOCATION:Kingston Yacht Club\, Ontario\, Canada
CATEGORIES:Demo - FREE
ATTACH;FMTTYPE=image/jpeg:https://wecanfoil.org/wp-content/uploads/2023/07/IMG_3028.jpeg
ORGANIZER;CN="weCANfoil":MAILTO:events@wecanfoil.org
END:VEVENT
BEGIN:VEVENT
DTSTART;TZID=America/Toronto:20230807T170000
DTEND;TZID=America/Toronto:20230807T200000
DTSTAMP:20260424T015547
CREATED:20230807T113705Z
LAST-MODIFIED:20230807T113705Z
UID:10000038-1691427600-1691438400@wecanfoil.org
SUMMARY:Waszp Demo - Kingston - FREE
DESCRIPTION:Come and get a taste of foiling in Kingston with coach Sue Fraser! \n5pm to 8pm
URL:https://wecanfoil.org/event/waszp-demo-kingston-free-3/
LOCATION:Kingston Yacht Club\, Ontario\, Canada
CATEGORIES:Demo - FREE
ORGANIZER;CN="weCANfoil":MAILTO:events@wecanfoil.org
END:VEVENT
BEGIN:VEVENT
DTSTART;TZID=America/Toronto:20230802T170000
DTEND;TZID=America/Toronto:20230802T200000
DTSTAMP:20260424T015547
CREATED:20230728T125742Z
LAST-MODIFIED:20230803T152214Z
UID:10000035-1690995600-1691006400@wecanfoil.org
SUMMARY:Waszp Demo - Kingston - FREE
DESCRIPTION:Come and get a taste of foiling in Kingston with coach Sue Fraser! \n5pm to 8pm
URL:https://wecanfoil.org/event/waszp-demo-kingston-free-2/
LOCATION:Kingston Yacht Club\, Ontario\, Canada
CATEGORIES:Demo - FREE
ORGANIZER;CN="weCANfoil":MAILTO:events@wecanfoil.org
END:VEVENT
BEGIN:VEVENT
DTSTART;TZID=America/Toronto:20230801T170000
DTEND;TZID=America/Toronto:20230801T200000
DTSTAMP:20260424T015547
CREATED:20230728T125333Z
LAST-MODIFIED:20230728T125554Z
UID:10000034-1690909200-1690920000@wecanfoil.org
SUMMARY:Waszp Demo - Kingston - FREE
DESCRIPTION:Come and get a taste of foiling in Kingston with coach Sue Fraser! \n5pm to 8pm
URL:https://wecanfoil.org/event/waszp-demo-kingston-free/
LOCATION:Kingston Yacht Club\, Ontario\, Canada
CATEGORIES:Demo - FREE
ORGANIZER;CN="weCANfoil":MAILTO:events@wecanfoil.org
END:VEVENT
END:VCALENDAR