BEGIN:VCALENDAR
VERSION:2.0
PRODID:-// - ECPv6.15.20//NONSGML v1.0//EN
CALSCALE:GREGORIAN
METHOD:PUBLISH
X-ORIGINAL-URL:https://wecanfoil.org
X-WR-CALDESC:Events for 
REFRESH-INTERVAL;VALUE=DURATION:PT1H
X-Robots-Tag:noindex
X-PUBLISHED-TTL:PT1H
BEGIN:VTIMEZONE
TZID:America/Toronto
BEGIN:DAYLIGHT
TZOFFSETFROM:-0500
TZOFFSETTO:-0400
TZNAME:EDT
DTSTART:20230312T070000
END:DAYLIGHT
BEGIN:STANDARD
TZOFFSETFROM:-0400
TZOFFSETTO:-0500
TZNAME:EST
DTSTART:20231105T060000
END:STANDARD
BEGIN:DAYLIGHT
TZOFFSETFROM:-0500
TZOFFSETTO:-0400
TZNAME:EDT
DTSTART:20240310T070000
END:DAYLIGHT
BEGIN:STANDARD
TZOFFSETFROM:-0400
TZOFFSETTO:-0500
TZNAME:EST
DTSTART:20241103T060000
END:STANDARD
BEGIN:DAYLIGHT
TZOFFSETFROM:-0500
TZOFFSETTO:-0400
TZNAME:EDT
DTSTART:20250309T070000
END:DAYLIGHT
BEGIN:STANDARD
TZOFFSETFROM:-0400
TZOFFSETTO:-0500
TZNAME:EST
DTSTART:20251102T060000
END:STANDARD
END:VTIMEZONE
BEGIN:VEVENT
DTSTART;VALUE=DATE:20241226
DTEND;VALUE=DATE:20241231
DTSTAMP:20260423T203053
CREATED:20240905T145033Z
LAST-MODIFIED:20241204T152322Z
UID:10000081-1735171200-1735603199@wecanfoil.org
SUMMARY:Orange Bowl Regatta - Cancelled/Rescheduled
DESCRIPTION:Orange Bowl Regatta\, Miami. \nEvent cancelled due to not meeting minimum registrations. Possibly re-scheduled. \nMinimum 8 registrations by Dec 1. If event cancelled\, all entry fees will be reimbursed.
URL:https://wecanfoil.org/event/orange-bowl-regatta/
CATEGORIES:Regattas
ORGANIZER;CN="weCANfoil":MAILTO:events@wecanfoil.org
END:VEVENT
BEGIN:VEVENT
DTSTART;VALUE=DATE:20241220
DTEND;VALUE=DATE:20241224
DTSTAMP:20260423T203053
CREATED:20240905T144056Z
LAST-MODIFIED:20241220T001627Z
UID:10000080-1734652800-1734998399@wecanfoil.org
SUMMARY:Pre-Orange Bowl Clinic
DESCRIPTION:Waszp Clinic in preparation for Orange Bowl Regatta. \nLocation: Miami Yacht Club \nYou can pick among 2 levels: \nLearn To Foil Group: For those looking to get comfortable in the Waszp. \nFoil Race Group: For those looking to advance their racing skills in the Waszp. \nClinic Schedule: \nDec 20-23: 9:30-16:30 \nMinimum 6 registrations by Dec 1st to confirm the event. If event is cancelled\, all registrations fees will be reimbursed.
URL:https://wecanfoil.org/event/pre-orange-bowl-clinic/
CATEGORIES:Training Camps
ORGANIZER;CN="weCANfoil":MAILTO:events@wecanfoil.org
END:VEVENT
BEGIN:VEVENT
DTSTART;VALUE=DATE:20241028
DTEND;VALUE=DATE:20241031
DTSTAMP:20260423T203053
CREATED:20241023T134951Z
LAST-MODIFIED:20241023T140941Z
UID:10000090-1730073600-1730332799@wecanfoil.org
SUMMARY:Buzzards Bay Camp - Waszp
DESCRIPTION:Join us for a great event at Tavor Academy as we head south for the winter. Come train in Waszp!
URL:https://wecanfoil.org/event/buzzards-bay-camp-waszp/
ORGANIZER;CN="weCANfoil":MAILTO:events@wecanfoil.org
END:VEVENT
BEGIN:VEVENT
DTSTART;VALUE=DATE:20241019
DTEND;VALUE=DATE:20241021
DTSTAMP:20260423T203053
CREATED:20241018T192226Z
LAST-MODIFIED:20241018T192226Z
UID:10000087-1729296000-1729468799@wecanfoil.org
SUMMARY:Foil Fest - Comox BC
DESCRIPTION:Come and learn to foil with WeCANFoil at Comox Sailing Association. \nWaszp – IQFoil – Wingfoil!
URL:https://wecanfoil.org/event/foil-fest-comox-bc/
LOCATION:Comox\, BC\, Canada
CATEGORIES:Training Camps
ORGANIZER;CN="weCANfoil":MAILTO:events@wecanfoil.org
END:VEVENT
BEGIN:VEVENT
DTSTART;VALUE=DATE:20241012
DTEND;VALUE=DATE:20241015
DTSTAMP:20260423T203053
CREATED:20241003T123110Z
LAST-MODIFIED:20241018T192823Z
UID:10000085-1728691200-1728950399@wecanfoil.org
SUMMARY:Fall Foiling Clinic - Victoria\, BC
DESCRIPTION:Come try foiling in Victoria at the Royal Victoria Yacht Club! \nWaszp & Wingfoil. \nAmazing Coaches and welcoming enviorment! \nRegistration: https://forms.gle/PwEY79f923o1KUAv9
URL:https://wecanfoil.org/event/fall-foiling-clinic-victoria/
LOCATION:Victoria\, BC\, Victoria\, British Columbia\, Canada
CATEGORIES:Training Camps
ORGANIZER;CN="weCANfoil":MAILTO:events@wecanfoil.org
END:VEVENT
BEGIN:VEVENT
DTSTART;VALUE=DATE:20241011
DTEND;VALUE=DATE:20241014
DTSTAMP:20260423T203053
CREATED:20241008T150104Z
LAST-MODIFIED:20241018T192848Z
UID:10000086-1728604800-1728863999@wecanfoil.org
SUMMARY:Foiling Coach Dev Course - BC
DESCRIPTION:WeCANFoil\, in partnership with Sail Canada\, is hosting a CANSail Foiling Instructor Module on Oct 11-13th at Jericho Sailing Centre in Vancouver. This clinic is designed to train CANSail instructors to deliver the CANSail Foiling Module. \nEligible participants must:\n-Be a 16 or older\n-Have foiling experience\n-Be a Trained or Certified CANSail Instructor\, registered for 2024 \nRegister here: https://www.sailing.ca/sc_event/cansail-foiling-instructor-module-2/
URL:https://wecanfoil.org/event/foiling-coach-dev-course-bc/
LOCATION:Vancouver\, BC
CATEGORIES:Coaching clinics
ORGANIZER;CN="weCANfoil":MAILTO:events@wecanfoil.org
END:VEVENT
BEGIN:VEVENT
DTSTART;VALUE=DATE:20241005
DTEND;VALUE=DATE:20241007
DTSTAMP:20260423T203053
CREATED:20241003T122811Z
LAST-MODIFIED:20241018T192911Z
UID:10000084-1728086400-1728259199@wecanfoil.org
SUMMARY:Female Foil Clinic - Victoria\, BC
DESCRIPTION:Inviting all girls and women to come try foiling! \nLocation: Royal Victoria Yacht Club \nWaszp and Wingfoil! \nRegistration: https://forms.gle/qA6VWBgeiPZHhWBG8 \n  \n 
URL:https://wecanfoil.org/event/female-foil-clinic-victoria/
LOCATION:Victoria\, BC\, Victoria\, British Columbia\, Canada
CATEGORIES:Female,Training Camps
ORGANIZER;CN="weCANfoil":MAILTO:events@wecanfoil.org
END:VEVENT
BEGIN:VEVENT
DTSTART;VALUE=DATE:20241005
DTEND;VALUE=DATE:20241007
DTSTAMP:20260423T203053
CREATED:20240813T133021Z
LAST-MODIFIED:20241018T193108Z
UID:10000076-1728086400-1728259199@wecanfoil.org
SUMMARY:CANFoil CUP
DESCRIPTION:Wrap up CANFoil Week with the Waszp CANFoil Cup Sat-Sun! \nregister here: https://theclubspot.com/regatta/hwnTxL10BK
URL:https://wecanfoil.org/event/canfoil-cup/
LOCATION:Royal Nova Scotia Yacht Squadron\, 2372 Purcells Cove Rd\, Halifax\, Nova Scotia\, B3P 1C7\, Canada
CATEGORIES:Regattas
ORGANIZER;CN="weCANfoil":MAILTO:events@wecanfoil.org
GEO:44.6213542;-63.5819457
X-APPLE-STRUCTURED-LOCATION;VALUE=URI;X-ADDRESS=Royal Nova Scotia Yacht Squadron 2372 Purcells Cove Rd Halifax Nova Scotia B3P 1C7 Canada;X-APPLE-RADIUS=500;X-TITLE=2372 Purcells Cove Rd:geo:-63.5819457,44.6213542
END:VEVENT
BEGIN:VEVENT
DTSTART;VALUE=DATE:20241002
DTEND;VALUE=DATE:20241007
DTSTAMP:20260423T203053
CREATED:20240813T132815Z
LAST-MODIFIED:20240813T133054Z
UID:10000075-1727827200-1728259199@wecanfoil.org
SUMMARY:CANFoil Week
DESCRIPTION:Great week to try and develop foiling in Waszp\, Wingfoil\, IQFoil and Nacra! \nGreat coaches\, great athletes from across Canada! \nWrap up with the Waszp CANFoil Cup Sat-Sun!
URL:https://wecanfoil.org/event/canfoil-week/
LOCATION:Royal Nova Scotia Yacht Squadron\, 2372 Purcells Cove Rd\, Halifax\, Nova Scotia\, B3P 1C7\, Canada
ORGANIZER;CN="weCANfoil":MAILTO:events@wecanfoil.org
GEO:44.6213542;-63.5819457
X-APPLE-STRUCTURED-LOCATION;VALUE=URI;X-ADDRESS=Royal Nova Scotia Yacht Squadron 2372 Purcells Cove Rd Halifax Nova Scotia B3P 1C7 Canada;X-APPLE-RADIUS=500;X-TITLE=2372 Purcells Cove Rd:geo:-63.5819457,44.6213542
END:VEVENT
BEGIN:VEVENT
DTSTART;VALUE=DATE:20240921
DTEND;VALUE=DATE:20240923
DTSTAMP:20260423T203053
CREATED:20240813T132541Z
LAST-MODIFIED:20240904T100142Z
UID:10000074-1726876800-1727049599@wecanfoil.org
SUMMARY:FALL CORK - Kingston
DESCRIPTION:Foiling Regatta supported by WeCANFoil \nWaszp Charters and coaching available. \nRegatta Registration: \n2024 FOILING Fall CORK
URL:https://wecanfoil.org/event/fall-cork-kingston/
LOCATION:Kingston POH\, 53 Yonge Street\, Kingston\, Ontario\, Canada
ORGANIZER;CN="weCANfoil":MAILTO:events@wecanfoil.org
GEO:44.218563;-76.5176711
X-APPLE-STRUCTURED-LOCATION;VALUE=URI;X-ADDRESS=Kingston POH 53 Yonge Street Kingston Ontario Canada;X-APPLE-RADIUS=500;X-TITLE=53 Yonge Street:geo:-76.5176711,44.218563
END:VEVENT
BEGIN:VEVENT
DTSTART;VALUE=DATE:20240907
DTEND;VALUE=DATE:20240909
DTSTAMP:20260423T203053
CREATED:20240909T153950Z
LAST-MODIFIED:20240910T164148Z
UID:10000082-1725667200-1725839999@wecanfoil.org
SUMMARY:Board Foil Demo - QC
DESCRIPTION:Come try wingfoil and windserf foiling at ECOVOILE! \nwww.ecovoile.com \n 
URL:https://wecanfoil.org/event/board-foil-demo-qc/
LOCATION:Carleton-sur-Mer\, 499 Boulevard Perron\, Carleton sur mer\, Quebec\, Canada
CATEGORIES:Demo - FREE
ORGANIZER;CN="weCANfoil":MAILTO:events@wecanfoil.org
END:VEVENT
BEGIN:VEVENT
DTSTART;VALUE=DATE:20240907
DTEND;VALUE=DATE:20240909
DTSTAMP:20260423T203053
CREATED:20240905T142646Z
LAST-MODIFIED:20240905T142747Z
UID:10000079-1725667200-1725839999@wecanfoil.org
SUMMARY:Board Foil DEMO - Squamish\, BC
DESCRIPTION:Board Foiling Demos \nSign up for FREE at this link: \nInFlow + WeCANFoil Demo Day \n  \nBrought to you by InFlow Adventure Co.\, & WeCANFoil this is your opportunity to get a taste for board foiling\, take flight\, and get on the pathway to your board foiling future. \nThese FREE demo sessions will be two hours long. You’ll spend an hour on land learning the basics and then an hour on the water. \nSpace is limited to one session per person. \nNOTE: September 7th is the Gran Fondo race. There will be significant traffic considerations for you to consider if you book on September 7th. While it isn’t impossible to get to Feather Park you will need to consider these traffic implications.
URL:https://wecanfoil.org/event/board-foil-demo-squamish-bc/
LOCATION:Squamish\, BC\, Squamish\, British Columbia\, Canada
ORGANIZER;CN="weCANfoil":MAILTO:events@wecanfoil.org
END:VEVENT
BEGIN:VEVENT
DTSTART;VALUE=DATE:20240906
DTEND;VALUE=DATE:20240912
DTSTAMP:20260423T203053
CREATED:20240816T215922Z
LAST-MODIFIED:20240818T114500Z
UID:10000077-1725580800-1726099199@wecanfoil.org
SUMMARY:Waszp Atlantic Coast Camp
DESCRIPTION:Waszp Camp for all sailors on East Coast! \nwelcoming new foilers and those looking to improve their skills as well! \nFriday to Wednesday at Swampscott YC. \nDaily schedule: 10:00 to 17:00 \nMinimum 8 full registrations by Sept 1
URL:https://wecanfoil.org/event/waszp-atlantic-coast-camp/
ORGANIZER;CN="weCANfoil":MAILTO:events@wecanfoil.org
END:VEVENT
BEGIN:VEVENT
DTSTART;VALUE=DATE:20240828
DTEND;VALUE=DATE:20240903
DTSTAMP:20260423T203053
CREATED:20240410T230402Z
LAST-MODIFIED:20240411T032848Z
UID:10000063-1724803200-1725321599@wecanfoil.org
SUMMARY:Waszp Canadians
DESCRIPTION:Regatta Regisration: https://racehub.waszp.com/events \nAmazing regatta at Harrison Lake\, BC \nStay tuned for boat charters
URL:https://wecanfoil.org/event/waszp-canadians/
LOCATION:Harrison Lake\, BC\, Canada
ORGANIZER;CN="weCANfoil":MAILTO:events@wecanfoil.org
END:VEVENT
BEGIN:VEVENT
DTSTART;VALUE=DATE:20240818
DTEND;VALUE=DATE:20240826
DTSTAMP:20260423T203053
CREATED:20240410T225620Z
LAST-MODIFIED:20240813T123041Z
UID:10000062-1723939200-1724630399@wecanfoil.org
SUMMARY:Waszp North Americans
DESCRIPTION:Regatta registration: https://racehub.waszp.com/events \nWeCANFoil Training organized for August 18 to 20. \nEvent supported by WeCANFoil & Vakaros
URL:https://wecanfoil.org/event/waszp-north-americans/
ORGANIZER;CN="weCANfoil":MAILTO:events@wecanfoil.org
END:VEVENT
BEGIN:VEVENT
DTSTART;VALUE=DATE:20240817
DTEND;VALUE=DATE:20240819
DTSTAMP:20260423T203053
CREATED:20240410T224940Z
LAST-MODIFIED:20240807T211714Z
UID:10000061-1723852800-1724025599@wecanfoil.org
SUMMARY:ECO-VOILE
DESCRIPTION:CARLETON SUR MER\, QUEBEC (ECO-VOILE\, BAIE DE CHALEURS) \nhttps://www.ecovoile.com/r%C3%A9gates2024
URL:https://wecanfoil.org/event/eco-voile/
ORGANIZER;CN="weCANfoil":MAILTO:events@wecanfoil.org
END:VEVENT
BEGIN:VEVENT
DTSTART;VALUE=DATE:20240806
DTEND;VALUE=DATE:20240807
DTSTAMP:20260423T203053
CREATED:20240805T010757Z
LAST-MODIFIED:20240805T020045Z
UID:10000073-1722902400-1722988799@wecanfoil.org
SUMMARY:Foil Clinic Kingston
DESCRIPTION:Fun day playing and learning around foiling. \nThis is NOT a DEMO\, this is a 1 day clinic which includes coach\, use of foiling boats & boards and rib. \nIdeal for Opti sailors and other dinghy sailors. \nSchedule: 9:30-16:00 \nCoach: Phoebe Chalmers (WeCANFoil Athlete and Magenta Foiling Project). \nMinimum registrations: 5 \nMaximum registrations: 9 \nRequirements: Previous dinghy experience (Opti/420/ILCA/29er). CANSail 2.
URL:https://wecanfoil.org/event/foil-clinic-kingston/
LOCATION:Kingston POH\, 53 Yonge Street\, Kingston\, Ontario\, Canada
ORGANIZER;CN="weCANfoil":MAILTO:events@wecanfoil.org
GEO:44.218563;-76.5176711
X-APPLE-STRUCTURED-LOCATION;VALUE=URI;X-ADDRESS=Kingston POH 53 Yonge Street Kingston Ontario Canada;X-APPLE-RADIUS=500;X-TITLE=53 Yonge Street:geo:-76.5176711,44.218563
END:VEVENT
BEGIN:VEVENT
DTSTART;VALUE=DATE:20240805
DTEND;VALUE=DATE:20240809
DTSTAMP:20260423T203053
CREATED:20240726T135419Z
LAST-MODIFIED:20240807T214949Z
UID:10000071-1722816000-1723161599@wecanfoil.org
SUMMARY:Waszp Demos - Kingston
DESCRIPTION:Come try a Waszp! \n17:00-20:00 \nPortsmouth Olympic Harbour \nMust come ready for dinghy sailing! \nMinimum CANSail 2 level. \nRSVP must be per person (we will remove names that repeat to avoid confusion).
URL:https://wecanfoil.org/event/waszp-demos-kingston/
ORGANIZER;CN="weCANfoil":MAILTO:events@wecanfoil.org
END:VEVENT
BEGIN:VEVENT
DTSTART;VALUE=DATE:20240804
DTEND;VALUE=DATE:20240805
DTSTAMP:20260423T203053
CREATED:20240804T171945Z
LAST-MODIFIED:20240804T171945Z
UID:10000072-1722729600-1722815999@wecanfoil.org
SUMMARY:Eco-Voile Board DEMO
DESCRIPTION:WingFoil and IQ Foil demos at ECO-Voile! \nVisit https://www.ecovoile.com/ to sign up!
URL:https://wecanfoil.org/event/eco-voile-board-demo/
LOCATION:Carleton-sur-Mer\, 499 Boulevard Perron\, Carleton sur mer\, Quebec\, Canada
ORGANIZER;CN="weCANfoil":MAILTO:events@wecanfoil.org
END:VEVENT
BEGIN:VEVENT
DTSTART;VALUE=DATE:20240802
DTEND;VALUE=DATE:20240805
DTSTAMP:20260423T203053
CREATED:20240410T224610Z
LAST-MODIFIED:20240802T194739Z
UID:10000060-1722556800-1722815999@wecanfoil.org
SUMMARY:Kingston Waszp Clinic
DESCRIPTION:Great opportunity to introduce yourself to the Waszp or practice advanced racing skills. \nIntro Group Coach: Sue Fraser \nRace Group Coach: Agustin Ferrario \nDaily Schedule: 10:00-16:30. \nMust bring reusable water bottle\, snacks and dinghy sailing gear. \nBoats will be provided for Intro Group. If joining the Race Group and need a boat\, please contact agustin@wecanfoil.org \n  \n 
URL:https://wecanfoil.org/event/cork-midsummer-regatta/
LOCATION:Kingston POH\, 53 Yonge Street\, Kingston\, Ontario\, Canada
ORGANIZER;CN="weCANfoil":MAILTO:events@wecanfoil.org
GEO:44.218563;-76.5176711
X-APPLE-STRUCTURED-LOCATION;VALUE=URI;X-ADDRESS=Kingston POH 53 Yonge Street Kingston Ontario Canada;X-APPLE-RADIUS=500;X-TITLE=53 Yonge Street:geo:-76.5176711,44.218563
END:VEVENT
BEGIN:VEVENT
DTSTART;VALUE=DATE:20240731
DTEND;VALUE=DATE:20240804
DTSTAMP:20260423T203053
CREATED:20240722T020447Z
LAST-MODIFIED:20240803T201755Z
UID:10000069-1722384000-1722729599@wecanfoil.org
SUMMARY:Waszp Demos - Kingston
DESCRIPTION:Come try a Waszp! \n17:00-20:00 \nPortsmouth Olympic Harbour \nMust come ready for dinghy sailing! \nRequirements: Minimum age 12 and CANSail 2 level. \nIn case of light winds: we will provide a introduction to the Waszp and demo foil boards. \nPLEASE NOTE: RSVP must be per person\, not a group (we will remove names that repeat to avoid confusion). If you try to RSVP for others\, their individual contact information must be supplied.
URL:https://wecanfoil.org/event/waszp-demos/
ORGANIZER;CN="weCANfoil":MAILTO:events@wecanfoil.org
END:VEVENT
BEGIN:VEVENT
DTSTART;VALUE=DATE:20240729
DTEND;VALUE=DATE:20240802
DTSTAMP:20260423T203053
CREATED:20240410T122437Z
LAST-MODIFIED:20240722T015318Z
UID:10000059-1722211200-1722556799@wecanfoil.org
SUMMARY:Girls Foiling Camp
DESCRIPTION:Event to empower women in foiling! \nAll female sailors welcomed! Great opportunity to learn how to sail a Waszp and also try board foiling! \nDaily schedule: 10:00 – 16:00 \nLocation: Portsmouth Olympic Harbour. \nWhat to bring? \n\nReusable water bottle & snacks/lunch.\nAppropriate dinghy sailing gear\, including PFD. We will supply helmets.\nGreat energy!\n\nContact: agustin@wecanfoil.org \n 
URL:https://wecanfoil.org/event/girls-foiling-camp/
LOCATION:Kingston POH\, 53 Yonge Street\, Kingston\, Ontario\, Canada
ORGANIZER;CN="weCANfoil":MAILTO:events@wecanfoil.org
GEO:44.218563;-76.5176711
X-APPLE-STRUCTURED-LOCATION;VALUE=URI;X-ADDRESS=Kingston POH 53 Yonge Street Kingston Ontario Canada;X-APPLE-RADIUS=500;X-TITLE=53 Yonge Street:geo:-76.5176711,44.218563
END:VEVENT
BEGIN:VEVENT
DTSTART;VALUE=DATE:20240726
DTEND;VALUE=DATE:20240727
DTSTAMP:20260423T203053
CREATED:20240724T161546Z
LAST-MODIFIED:20240725T211419Z
UID:10000070-1721952000-1722038399@wecanfoil.org
SUMMARY:Fruitbowl DEMO - FREE
DESCRIPTION:Try a Waszp or board foiling during Fruitbowl! \n16:00-19:00 \nCoach: Hunter Hoy \nPre-requisites: Age 12+ with CANSail 2 (adults welcomed!). \nJust come ready to sail!
URL:https://wecanfoil.org/event/fruitbowl-demo-free/
LOCATION:Hudson Yacht Club\, Montreal\, Quebec
ORGANIZER;CN="weCANfoil":MAILTO:events@wecanfoil.org
END:VEVENT
BEGIN:VEVENT
DTSTART;VALUE=DATE:20240704
DTEND;VALUE=DATE:20240708
DTSTAMP:20260423T203053
CREATED:20240410T122122Z
LAST-MODIFIED:20240702T011924Z
UID:10000058-1720051200-1720396799@wecanfoil.org
SUMMARY:FOIL Kingston Regatta
DESCRIPTION:Premier foiling regatta in canada! \nRegatta Registration: https://racehub.waszp.com/events \nClasses: \nWaszp – Kite – Windfoiling
URL:https://wecanfoil.org/event/foil-kingston-regatta/
ORGANIZER;CN="weCANfoil":MAILTO:events@wecanfoil.org
END:VEVENT
BEGIN:VEVENT
DTSTART;VALUE=DATE:20240702
DTEND;VALUE=DATE:20240707
DTSTAMP:20260423T203053
CREATED:20240701T042412Z
LAST-MODIFIED:20240705T205250Z
UID:10000068-1719878400-1720310399@wecanfoil.org
SUMMARY:Kingston Board Foil Demos - Wing & IQ Foil
DESCRIPTION:Come and try Wing foiling and Windsurf foiling! \nCome ready to sail (including PFD). Foiling equipment is provided thanks to our partners: North Sails & Starboard.v \nWe have top noth coaches lined up for this event! \nCoaches: Max Robinson\, Anna Sugelenko and Jonathan DeVries. \nWhen? July 2\, 3\,4\,5 & 6. \nTime? 17:00 to 20:00. \nWhere? Portsmouth Olympic Harbour\, Kingston (by the breakwater). \nHelmets will be supplied. \n  \n 
URL:https://wecanfoil.org/event/kingston-board-foil-demos-wing-iq-foil/
LOCATION:Kingston POH\, 53 Yonge Street\, Kingston\, Ontario\, Canada
ORGANIZER;CN="weCANfoil":MAILTO:events@wecanfoil.org
GEO:44.218563;-76.5176711
X-APPLE-STRUCTURED-LOCATION;VALUE=URI;X-ADDRESS=Kingston POH 53 Yonge Street Kingston Ontario Canada;X-APPLE-RADIUS=500;X-TITLE=53 Yonge Street:geo:-76.5176711,44.218563
END:VEVENT
BEGIN:VEVENT
DTSTART;VALUE=DATE:20240702
DTEND;VALUE=DATE:20240705
DTSTAMP:20260423T203053
CREATED:20240510T185355Z
LAST-MODIFIED:20241130T031711Z
UID:10000067-1719878400-1720137599@wecanfoil.org
SUMMARY:Foil Kingston Waszp-Cat Clinic
DESCRIPTION:Get ready for Foil Kingston and improve your foiling! \n3 days of Waszp foiling with Sue Fraser. \nClasses: \n\nWaszp & Cat\n\nSchedule: \nJuly 2: 14:00-18:00 Check in\, equipment preparation and casual sail. \nJuly 3: 10:00-17:00 Training and video session. \nJuly 4: 10:00-17:00 Training and video session.
URL:https://wecanfoil.org/event/foil-kingston-clinic/
LOCATION:Kingston POH\, 53 Yonge Street\, Kingston\, Ontario\, Canada
ORGANIZER;CN="weCANfoil":MAILTO:events@wecanfoil.org
GEO:44.218563;-76.5176711
X-APPLE-STRUCTURED-LOCATION;VALUE=URI;X-ADDRESS=Kingston POH 53 Yonge Street Kingston Ontario Canada;X-APPLE-RADIUS=500;X-TITLE=53 Yonge Street:geo:-76.5176711,44.218563
END:VEVENT
BEGIN:VEVENT
DTSTART;VALUE=DATE:20240612
DTEND;VALUE=DATE:20240617
DTSTAMP:20260423T203053
CREATED:20240410T121402Z
LAST-MODIFIED:20240410T224219Z
UID:10000057-1718150400-1718582399@wecanfoil.org
SUMMARY:Waszp Atlantic Coast Champs (ACCs)
DESCRIPTION:Great regatta to kick off the summer! \nThis event will also serve as a SailGP Inspire qualifier for the San Francisco Final! \nLocation: Toms River Yacht Club \nLink to register for the regatta: https://racehub.waszp.com/eventdetail/318
URL:https://wecanfoil.org/event/waszp-atlantic-coast-champs-accs/
LOCATION:Toms River Yacht Club\, 1464 Riviera Ave\, Toms River\, NJ\, 08753\, United States
ORGANIZER;CN="weCANfoil":MAILTO:events@wecanfoil.org
GEO:39.9455311;-74.1599007
X-APPLE-STRUCTURED-LOCATION;VALUE=URI;X-ADDRESS=Toms River Yacht Club 1464 Riviera Ave Toms River NJ 08753 United States;X-APPLE-RADIUS=500;X-TITLE=1464 Riviera Ave:geo:-74.1599007,39.9455311
END:VEVENT
BEGIN:VEVENT
DTSTART;VALUE=DATE:20240529
DTEND;VALUE=DATE:20240603
DTSTAMP:20260423T203053
CREATED:20240410T115601Z
LAST-MODIFIED:20240410T115601Z
UID:10000055-1716940800-1717372799@wecanfoil.org
SUMMARY:SailGP Inspire Halifax
DESCRIPTION:Immerse in the world of SailGP in this fun and development opportunity for the next generation of foiling athletes! \nMore info and application link: HERE
URL:https://wecanfoil.org/event/sailgp-inspire-halifax/
LOCATION:Halifax Waterfront
ORGANIZER;CN="weCANfoil":MAILTO:events@wecanfoil.org
END:VEVENT
BEGIN:VEVENT
DTSTART;VALUE=DATE:20240527
DTEND;VALUE=DATE:20240529
DTSTAMP:20260423T203053
CREATED:20240410T115150Z
LAST-MODIFIED:20240410T115150Z
UID:10000054-1716768000-1716940799@wecanfoil.org
SUMMARY:Foiling Coach Clinic
DESCRIPTION:Want to become a Foiling Coach? WeCANFoil and Sail Canada have developed the CANSail Foiling Coach Module to develop and certify foiling coaches in Canada. \nThe module is only active for registered Sail Canada coaches. \nRegistration: sailing.ca \n 
URL:https://wecanfoil.org/event/foiling-coach-clinic-2/
LOCATION:Halifax Waterfront
ORGANIZER;CN="weCANfoil":MAILTO:events@wecanfoil.org
END:VEVENT
BEGIN:VEVENT
DTSTART;VALUE=DATE:20240526
DTEND;VALUE=DATE:20240527
DTSTAMP:20260423T203053
CREATED:20240506T230822Z
LAST-MODIFIED:20240524T103712Z
UID:10000065-1716681600-1716767999@wecanfoil.org
SUMMARY:Foil4ALL -  Halifax - Sunday Foiling DEMOS
DESCRIPTION:Lets welcome the first SailGP event in Canada with getting lots of Canadians foiling at the Halifax Waterfront! \nLocation: The Wave at the Halifax Waterfront. \nOur generous sponsors\, volunteers and partners are putting this event together and it will be a blast! \nWe will have over 15 different foiling boats and boards with 15 coaches! No foiling experience required! \nTry Waszp\, Wingfoil\, Nacra and other foilers! For FREE! \nJust bring you sailing gear! (wetsuit\, boots and PFD). \nSaturday and Sunday: Try foiling for 2 hours from 11:00 to 18:00 with WeCANFoil coaches! \nEvery participant must complete the following SailGP waiver prior to participation: \nhttps://docs.google.com/forms/d/e/1FAIpQLSfJBtRpLlLyJ76d8Soapqn27xMKkjPW72DRZsZPoy5rx8WNIA/viewform \n 
URL:https://wecanfoil.org/event/foil4all-halifax-sunday-foiling-demos/
LOCATION:Halifax Waterfront
CATEGORIES:Coaching clinics,Demo - FREE,Female,Training Camps
ORGANIZER;CN="weCANfoil":MAILTO:events@wecanfoil.org
END:VEVENT
END:VCALENDAR