BEGIN:VCALENDAR
VERSION:2.0
PRODID:-// - ECPv6.15.20//NONSGML v1.0//EN
CALSCALE:GREGORIAN
METHOD:PUBLISH
X-ORIGINAL-URL:https://wecanfoil.org
X-WR-CALDESC:Events for 
REFRESH-INTERVAL;VALUE=DURATION:PT1H
X-Robots-Tag:noindex
X-PUBLISHED-TTL:PT1H
BEGIN:VTIMEZONE
TZID:America/Toronto
BEGIN:DAYLIGHT
TZOFFSETFROM:-0500
TZOFFSETTO:-0400
TZNAME:EDT
DTSTART:20230312T070000
END:DAYLIGHT
BEGIN:STANDARD
TZOFFSETFROM:-0400
TZOFFSETTO:-0500
TZNAME:EST
DTSTART:20231105T060000
END:STANDARD
BEGIN:DAYLIGHT
TZOFFSETFROM:-0500
TZOFFSETTO:-0400
TZNAME:EDT
DTSTART:20240310T070000
END:DAYLIGHT
BEGIN:STANDARD
TZOFFSETFROM:-0400
TZOFFSETTO:-0500
TZNAME:EST
DTSTART:20241103T060000
END:STANDARD
BEGIN:DAYLIGHT
TZOFFSETFROM:-0500
TZOFFSETTO:-0400
TZNAME:EDT
DTSTART:20250309T070000
END:DAYLIGHT
BEGIN:STANDARD
TZOFFSETFROM:-0400
TZOFFSETTO:-0500
TZNAME:EST
DTSTART:20251102T060000
END:STANDARD
BEGIN:DAYLIGHT
TZOFFSETFROM:-0500
TZOFFSETTO:-0400
TZNAME:EDT
DTSTART:20260308T070000
END:DAYLIGHT
BEGIN:STANDARD
TZOFFSETFROM:-0400
TZOFFSETTO:-0500
TZNAME:EST
DTSTART:20261101T060000
END:STANDARD
END:VTIMEZONE
BEGIN:VEVENT
DTSTART;VALUE=DATE:20250826
DTEND;VALUE=DATE:20250901
DTSTAMP:20260423T162449
CREATED:20250825T050830Z
LAST-MODIFIED:20250825T053102Z
UID:10000121-1756166400-1756684799@wecanfoil.org
SUMMARY:BC - Harrison Lake Foiling Skills Camp & Beginner Racing Clinic
DESCRIPTION:For Waszp\, Wingfoil and Windfoil. Run by WVYC. \nRegistration: https://theclubspot.com/register/camp/UY10Clrqel/class?guest=true \nHarrison Lake Foiling Skills Camp & Beginner Racing Clinic
URL:https://wecanfoil.org/event/harrison-lake-foiling-skills-camp-beginner-racing-clinic/
LOCATION:Harrison Lake\, BC\, Canada
ORGANIZER;CN="weCANfoil":MAILTO:events@wecanfoil.org
END:VEVENT
BEGIN:VEVENT
DTSTART;VALUE=DATE:20250823
DTEND;VALUE=DATE:20250825
DTSTAMP:20260423T162449
CREATED:20250723T232334Z
LAST-MODIFIED:20250723T232334Z
UID:10000115-1755907200-1756079999@wecanfoil.org
SUMMARY:Kingston Waszp Weekends - Learn To Foil
DESCRIPTION:Kingston is a foiling destination! Learn to fly above the water on a WASZP foiling dinghy (boat provided by WeCANFoil). Qualified coaches will communicate with you via a head set to help you gain the skills and timing to lift out of the water and sustain foiling\, if you are new to foiling\, or develop your maneuvers going downwind and upwind. We will also have the opportunity to use board foiling equipment with wings and windsurf sails. For more information or to register\n\nLog in or Sign up
URL:https://wecanfoil.org/event/kingston-waszp-weekends-learn-to-foil-4/
LOCATION:Kingston POH\, 53 Yonge Street\, Kingston\, Ontario\, Canada
CATEGORIES:Training Camps
ORGANIZER;CN="weCANfoil":MAILTO:events@wecanfoil.org
GEO:44.218563;-76.5176711
X-APPLE-STRUCTURED-LOCATION;VALUE=URI;X-ADDRESS=Kingston POH 53 Yonge Street Kingston Ontario Canada;X-APPLE-RADIUS=500;X-TITLE=53 Yonge Street:geo:-76.5176711,44.218563
END:VEVENT
BEGIN:VEVENT
DTSTART;VALUE=DATE:20250822
DTEND;VALUE=DATE:20250827
DTSTAMP:20260423T162449
CREATED:20250713T155252Z
LAST-MODIFIED:20250713T155954Z
UID:10000109-1755820800-1756252799@wecanfoil.org
SUMMARY:Spain - Canada Foiling Camp
DESCRIPTION:WeCANFoil in collaboration with the Spain SailGP Foiling Base Cadiz is hosting a training camp in Kingston\, ON for canadian and spanish foiling athletes aged under 22 to promote collaboration in the development of the next generation of high performance athletes. \nParticipating athletes are expected to be open to train in Waszps\, wingfoil\, IQfoil and foiling Nacra. \nWeCANFoil will supply foiling equipment although Canadian athletes are expected to supply their own waszp if they require one. \nFor more info\, contact Agustin at agustin@wecanfoil.org
URL:https://wecanfoil.org/event/spain-canada-foiling-camp/
LOCATION:Kingston POH\, 53 Yonge Street\, Kingston\, Ontario\, Canada
CATEGORIES:Training Camps
ORGANIZER;CN="weCANfoil":MAILTO:events@wecanfoil.org
GEO:44.218563;-76.5176711
X-APPLE-STRUCTURED-LOCATION;VALUE=URI;X-ADDRESS=Kingston POH 53 Yonge Street Kingston Ontario Canada;X-APPLE-RADIUS=500;X-TITLE=53 Yonge Street:geo:-76.5176711,44.218563
END:VEVENT
BEGIN:VEVENT
DTSTART;VALUE=DATE:20250820
DTEND;VALUE=DATE:20250821
DTSTAMP:20260423T162449
CREATED:20250801T214823Z
LAST-MODIFIED:20250801T214823Z
UID:10000119-1755648000-1755734399@wecanfoil.org
SUMMARY:Kingston FOILING DEMO
DESCRIPTION:Portsmouth Olympic Harbour 5-8pm. Bring PFD\, wetsuit\, water shoes/dinghy boots. Helmets provided or bring your own. We will WASZP if conditions are above 8knots and wing foil if less. \nRegistere HERE
URL:https://wecanfoil.org/event/kingston-foiling-demo-2/
LOCATION:Kingston POH\, 53 Yonge Street\, Kingston\, Ontario\, Canada
CATEGORIES:Foiling DEMO
ATTACH;FMTTYPE=image/png:https://wecanfoil.org/wp-content/uploads/2025/08/Kingston-DEMOS-e1754084483560.png
ORGANIZER;CN="weCANfoil":MAILTO:events@wecanfoil.org
GEO:44.218563;-76.5176711
X-APPLE-STRUCTURED-LOCATION;VALUE=URI;X-ADDRESS=Kingston POH 53 Yonge Street Kingston Ontario Canada;X-APPLE-RADIUS=500;X-TITLE=53 Yonge Street:geo:-76.5176711,44.218563
END:VEVENT
BEGIN:VEVENT
DTSTART;VALUE=DATE:20250819
DTEND;VALUE=DATE:20250822
DTSTAMP:20260423T162449
CREATED:20250713T161305Z
LAST-MODIFIED:20250713T161440Z
UID:10000111-1755561600-1755820799@wecanfoil.org
SUMMARY:Foiling Demos with Sail NS Mobile School - Halifax\, Africville
DESCRIPTION:WeCANFoil and SailNS are partnering to bring foiling to Halifax and the Mobile Sail NS School. \nThese demos will happen in Africville. Stay tunned in this link for registration!
URL:https://wecanfoil.org/event/foiling-demos-sail-ns-mobile-school/
ORGANIZER;CN="weCANfoil":MAILTO:events@wecanfoil.org
END:VEVENT
BEGIN:VEVENT
DTSTART;VALUE=DATE:20250816
DTEND;VALUE=DATE:20250818
DTSTAMP:20260423T162449
CREATED:20250723T232251Z
LAST-MODIFIED:20250723T232251Z
UID:10000114-1755302400-1755475199@wecanfoil.org
SUMMARY:Kingston Waszp Weekends - Learn To Foil
DESCRIPTION:Kingston is a foiling destination! Learn to fly above the water on a WASZP foiling dinghy (boat provided by WeCANFoil). Qualified coaches will communicate with you via a head set to help you gain the skills and timing to lift out of the water and sustain foiling\, if you are new to foiling\, or develop your maneuvers going downwind and upwind. We will also have the opportunity to use board foiling equipment with wings and windsurf sails. For more information or to register\n\nLog in or Sign up
URL:https://wecanfoil.org/event/kingston-waszp-weekends-learn-to-foil-3/
LOCATION:Kingston POH\, 53 Yonge Street\, Kingston\, Ontario\, Canada
CATEGORIES:Training Camps
ORGANIZER;CN="weCANfoil":MAILTO:events@wecanfoil.org
GEO:44.218563;-76.5176711
X-APPLE-STRUCTURED-LOCATION;VALUE=URI;X-ADDRESS=Kingston POH 53 Yonge Street Kingston Ontario Canada;X-APPLE-RADIUS=500;X-TITLE=53 Yonge Street:geo:-76.5176711,44.218563
END:VEVENT
BEGIN:VEVENT
DTSTART;VALUE=DATE:20250809
DTEND;VALUE=DATE:20250811
DTSTAMP:20260423T162449
CREATED:20250808T002127Z
LAST-MODIFIED:20250808T002127Z
UID:10000120-1754697600-1754870399@wecanfoil.org
SUMMARY:Hubbards Waszp Clinic
DESCRIPTION:Learn to Foil Waszps at Hubbards Sailing Club! \nRegister HERE \n 
URL:https://wecanfoil.org/event/hubbards-waszp-clinic/
LOCATION:Hubbards\, NS
CATEGORIES:Foiling DEMO
ORGANIZER;CN="weCANfoil":MAILTO:events@wecanfoil.org
END:VEVENT
BEGIN:VEVENT
DTSTART;VALUE=DATE:20250806
DTEND;VALUE=DATE:20250810
DTSTAMP:20260423T162449
CREATED:20250713T160447Z
LAST-MODIFIED:20250713T160807Z
UID:10000110-1754438400-1754783999@wecanfoil.org
SUMMARY:Female Foiling Clinic with Magenta - Kingston
DESCRIPTION:WeCANFoil and Magenta Foiling Team are teaming up for a great camp! \nLearn to foil dinghies(WASZP) Wingfoil and Windfoil in a small group setting with other females and qualified female coaches. Returning camp participants and new to foiling are all welcome! \nRegistration link HERE
URL:https://wecanfoil.org/event/female-foiling-clinic-kingston/
LOCATION:Kingston POH\, 53 Yonge Street\, Kingston\, Ontario\, Canada
CATEGORIES:Female,Training Camps
ORGANIZER;CN="weCANfoil":MAILTO:events@wecanfoil.org
GEO:44.218563;-76.5176711
X-APPLE-STRUCTURED-LOCATION;VALUE=URI;X-ADDRESS=Kingston POH 53 Yonge Street Kingston Ontario Canada;X-APPLE-RADIUS=500;X-TITLE=53 Yonge Street:geo:-76.5176711,44.218563
END:VEVENT
BEGIN:VEVENT
DTSTART;VALUE=DATE:20250804
DTEND;VALUE=DATE:20250805
DTSTAMP:20260423T162449
CREATED:20250801T213740Z
LAST-MODIFIED:20250801T214626Z
UID:10000118-1754265600-1754351999@wecanfoil.org
SUMMARY:Kingston FOILING DEMO
DESCRIPTION:Portsmouth Olympic Harbour 5-8pm. Bring PFD\, wetsuit\, water shoes/dinghy boots. Helmets provided or bring your own. We will WASZP if conditions are above 8knots and wing foil if less. \nRegistere HERE
URL:https://wecanfoil.org/event/kingston-foiling-demo/
LOCATION:Kingston POH\, 53 Yonge Street\, Kingston\, Ontario\, Canada
CATEGORIES:Demo - FREE
ATTACH;FMTTYPE=image/png:https://wecanfoil.org/wp-content/uploads/2025/08/Kingston-DEMOS-e1754084483560.png
ORGANIZER;CN="weCANfoil":MAILTO:events@wecanfoil.org
GEO:44.218563;-76.5176711
X-APPLE-STRUCTURED-LOCATION;VALUE=URI;X-ADDRESS=Kingston POH 53 Yonge Street Kingston Ontario Canada;X-APPLE-RADIUS=500;X-TITLE=53 Yonge Street:geo:-76.5176711,44.218563
END:VEVENT
BEGIN:VEVENT
DTSTART;VALUE=DATE:20250802
DTEND;VALUE=DATE:20250804
DTSTAMP:20260423T162449
CREATED:20250723T232051Z
LAST-MODIFIED:20250723T232051Z
UID:10000113-1754092800-1754265599@wecanfoil.org
SUMMARY:Kingston Waszp Weekends - Learn To Foil
DESCRIPTION:Kingston is a foiling destination! Learn to fly above the water on a WASZP foiling dinghy (boat provided by WeCANFoil). Qualified coaches will communicate with you via a head set to help you gain the skills and timing to lift out of the water and sustain foiling\, if you are new to foiling\, or develop your maneuvers going downwind and upwind. We will also have the opportunity to use board foiling equipment with wings and windsurf sails. For more information or to register\n\nLog in or Sign up
URL:https://wecanfoil.org/event/kingston-waszp-weekends-learn-to-foil-2/
LOCATION:Kingston POH\, 53 Yonge Street\, Kingston\, Ontario\, Canada
CATEGORIES:Training Camps
ORGANIZER;CN="weCANfoil":MAILTO:events@wecanfoil.org
GEO:44.218563;-76.5176711
X-APPLE-STRUCTURED-LOCATION;VALUE=URI;X-ADDRESS=Kingston POH 53 Yonge Street Kingston Ontario Canada;X-APPLE-RADIUS=500;X-TITLE=53 Yonge Street:geo:-76.5176711,44.218563
END:VEVENT
BEGIN:VEVENT
DTSTART;VALUE=DATE:20250726
DTEND;VALUE=DATE:20250727
DTSTAMP:20260423T162449
CREATED:20250723T231821Z
LAST-MODIFIED:20250723T231947Z
UID:10000112-1753488000-1753574399@wecanfoil.org
SUMMARY:Kingston Waszp Weekends - Learn To Foil
DESCRIPTION:Kingston is a foiling destination! Learn to fly above the water on a WASZP foiling dinghy (boat provided by WeCANFoil). Qualified coaches will communicate with you via a head set to help you gain the skills and timing to lift out of the water and sustain foiling\, if you are new to foiling\, or develop your maneuvers going downwind and upwind. We will also have the opportunity to use board foiling equipment with wings and windsurf sails. For more information or to register\n\nLog in or Sign up
URL:https://wecanfoil.org/event/kingston-waszp-weekends-learn-to-foil/
LOCATION:Kingston POH\, 53 Yonge Street\, Kingston\, Ontario\, Canada
CATEGORIES:Training Camps
ORGANIZER;CN="weCANfoil":MAILTO:events@wecanfoil.org
GEO:44.218563;-76.5176711
X-APPLE-STRUCTURED-LOCATION;VALUE=URI;X-ADDRESS=Kingston POH 53 Yonge Street Kingston Ontario Canada;X-APPLE-RADIUS=500;X-TITLE=53 Yonge Street:geo:-76.5176711,44.218563
END:VEVENT
BEGIN:VEVENT
DTSTART;VALUE=DATE:20250719
DTEND;VALUE=DATE:20250726
DTSTAMP:20260423T162449
CREATED:20241120T151513Z
LAST-MODIFIED:20241120T153320Z
UID:10000095-1752883200-1753487999@wecanfoil.org
SUMMARY:Waszp Games - UK
DESCRIPTION:Waszp World Championships happening in Weymouth\, UK. \nExpecting over 250 boats from around the world\, we want to send a team and set up a training camp in the lead to the world championship.
URL:https://wecanfoil.org/event/waszp-games-uk/
ORGANIZER;CN="weCANfoil":MAILTO:events@wecanfoil.org
END:VEVENT
BEGIN:VEVENT
DTSTART;VALUE=DATE:20250705
DTEND;VALUE=DATE:20250707
DTSTAMP:20260423T162449
CREATED:20250705T120212Z
LAST-MODIFIED:20250705T121536Z
UID:10000106-1751673600-1751846399@wecanfoil.org
SUMMARY:UBC Waszp Demo. -Vancouver
DESCRIPTION:Are you a UBC sailor? Come try the Waszp! \nRegister HERE
URL:https://wecanfoil.org/event/ubc-waszp-demo-vancouver/
LOCATION:Vancouver\, BC
ORGANIZER;CN="weCANfoil":MAILTO:events@wecanfoil.org
END:VEVENT
BEGIN:VEVENT
DTSTART;VALUE=DATE:20250703
DTEND;VALUE=DATE:20250707
DTSTAMP:20260423T162449
CREATED:20241120T151058Z
LAST-MODIFIED:20250618T164239Z
UID:10000094-1751500800-1751846399@wecanfoil.org
SUMMARY:Waszp Americas - Foil Kingston
DESCRIPTION:Waszp Americas is back at beautiful Kingston. \nRegatta will have digital racing using RaceSense from Vakaros\, sponsored by WeCANFoil. All Waszp are required to have a Vakaros Atlas installed. You can rent a Vakaros for the regatta through WeCANFoil. \nRegatta registration and details: https://theclubspot.com/regatta/Z1OG4qNnLD \nThis event will have a training camp in the lead up to the regatta.
URL:https://wecanfoil.org/event/waszp-americas-kingston/
LOCATION:Kingston POH\, 53 Yonge Street\, Kingston\, Ontario\, Canada
ORGANIZER;CN="weCANfoil":MAILTO:events@wecanfoil.org
GEO:44.218563;-76.5176711
X-APPLE-STRUCTURED-LOCATION;VALUE=URI;X-ADDRESS=Kingston POH 53 Yonge Street Kingston Ontario Canada;X-APPLE-RADIUS=500;X-TITLE=53 Yonge Street:geo:-76.5176711,44.218563
END:VEVENT
BEGIN:VEVENT
DTSTART;VALUE=DATE:20250620
DTEND;VALUE=DATE:20250623
DTSTAMP:20260423T162449
CREATED:20250410T232346Z
LAST-MODIFIED:20250410T232627Z
UID:10000105-1750377600-1750636799@wecanfoil.org
SUMMARY:US Single Handed Championships
DESCRIPTION:With the Waszp being selected as the class for the US Sailing Single Handed Championships\, we are heading to Tabor Academy for a fantastic event! \nFeel free to rent a Waszp or a Vakaros from us. \nMore info and registration: https://www.ussailing.org/competition/championships/2025-u-s-singlehanded-championship/ \n 
URL:https://wecanfoil.org/event/us-single-handed-championships/
LOCATION:Tabor Academy
ORGANIZER;CN="weCANfoil":MAILTO:events@wecanfoil.org
END:VEVENT
BEGIN:VEVENT
DTSTART;VALUE=DATE:20250613
DTEND;VALUE=DATE:20250616
DTSTAMP:20260423T162449
CREATED:20250311T015630Z
LAST-MODIFIED:20250311T015630Z
UID:10000100-1749772800-1750031999@wecanfoil.org
SUMMARY:Foiling Instructor Course - Ontario
DESCRIPTION:For those CANSail Instructors who would like to take the CANSail Foiling Instructor module. \nOntario Sailing in partnership with WeCANFoil will be offering this course. \nLocation: Toronto Windsurfing Club \nFor more information\, contact agustin@wecanfoil.org
URL:https://wecanfoil.org/event/foiling-instructor-course-ontario/
LOCATION:Toronto Windsurfing Club\, 2 Regatta Rd\, Toronto\, Ontario\, Canada
CATEGORIES:Coaching clinics
ORGANIZER;CN="weCANfoil":MAILTO:events@wecanfoil.org
END:VEVENT
BEGIN:VEVENT
DTSTART;VALUE=DATE:20250606
DTEND;VALUE=DATE:20250609
DTSTAMP:20260423T162449
CREATED:20241120T150755Z
LAST-MODIFIED:20250508T021508Z
UID:10000093-1749168000-1749427199@wecanfoil.org
SUMMARY:Atlantic Coast Championships - NJ
DESCRIPTION:Waszp Atlantic Coast Champs at Toms River Yacht Club\, NJ. \nRegatta Details: https://racehub.waszp.com/eventdetail/436
URL:https://wecanfoil.org/event/atlantic-coast-championships-nj/
LOCATION:Toms River Yacht Club\, 1464 Riviera Ave\, Toms River\, NJ\, 08753\, United States
CATEGORIES:Regattas,Training Camps
ORGANIZER;CN="weCANfoil":MAILTO:events@wecanfoil.org
GEO:39.9455311;-74.1599007
X-APPLE-STRUCTURED-LOCATION;VALUE=URI;X-ADDRESS=Toms River Yacht Club 1464 Riviera Ave Toms River NJ 08753 United States;X-APPLE-RADIUS=500;X-TITLE=1464 Riviera Ave:geo:-74.1599007,39.9455311
END:VEVENT
BEGIN:VEVENT
DTSTART;VALUE=DATE:20250529
DTEND;VALUE=DATE:20250602
DTSTAMP:20260423T162449
CREATED:20250322T195010Z
LAST-MODIFIED:20250527T140732Z
UID:10000104-1748476800-1748822399@wecanfoil.org
SUMMARY:Foil4All - Halifax
DESCRIPTION:Following of the success of last season\, Foil4All is back at the Halifax Waterfront in partnership with the Maritime Museum Atlantic and supported by Sail Nova Scotia and the Royal Nova Scotia Yacht Squadron. \nAll participants must have waiver signed prior to participation: WAIVER LINK \nWe don’t want to wait for SailGP to come back in 2026\, so we are showcasing foiling in NS! \nLocation: Maritime Museum Atlantic. \nOur generous sponsors\, volunteers and partners are putting this event together and it will be a blast! \nNo foiling experience required! Try Waszp\, Wingfoil\, Nacra and other foilers! For FREE! \nWe will have some wetsuits\, boots and PFDs available for participants to borrow but feel free to bring yours if you have!
URL:https://wecanfoil.org/event/foil4all-halifax/
ORGANIZER;CN="weCANfoil":MAILTO:events@wecanfoil.org
END:VEVENT
BEGIN:VEVENT
DTSTART;VALUE=DATE:20250502
DTEND;VALUE=DATE:20250505
DTSTAMP:20260423T162449
CREATED:20241120T150123Z
LAST-MODIFIED:20250503T050203Z
UID:10000092-1746144000-1746403199@wecanfoil.org
SUMMARY:Helly Hansen NOOD - Annapolis
DESCRIPTION:One of the biggest events of the season! \nThis event is the US Champiosnhips and will serve as a SailGP Inspire qualifier \nGreat venue and fantastic organizers! \nRegistration: https://www.sailingworld.com/regatta-series-annapolis/ \n 
URL:https://wecanfoil.org/event/helly-hansen-nood-annapolis/
LOCATION:Annapolis\, MD\, United States
ORGANIZER;CN="weCANfoil":MAILTO:events@wecanfoil.org
END:VEVENT
BEGIN:VEVENT
DTSTART;VALUE=DATE:20250412
DTEND;VALUE=DATE:20250414
DTSTAMP:20260423T162449
CREATED:20250310T213026Z
LAST-MODIFIED:20250311T012637Z
UID:10000099-1744416000-1744588799@wecanfoil.org
SUMMARY:April Foils - VICTORIA\, BC.
DESCRIPTION:Link to register and NOR: https://theclubspot.com/regatta/XnqPGtfpXw \nWelcome to the Offical Notice Board for April Foils\nThis regattta will be held at the Royal Victoria Yacht Club on April 12-13. This regatta is open to any sailors in the WASZP\, Moth\, Wing Foil\, and Wind Foiling classes. Two courses will be run: one standard windard leeward course and one reaching course for beginner sailors. The reaching course won’t be scorred. \n================================== \nIf there is anyone who isn’t a member of a Yacht Club but would still like to race\, BC Sailing offers a one year membership. A membership in a recognised yacht club is mandatory in order to race. Details linked here. \n================================== \nWE CAN FOIL CHARTERS\nThere are 4 WASZPS\, 4 Wing Foil Boards\, and 3 Wind Foil sets that are avaiable to be chartered for the event. For the sailors on the standard Open course you’ll be chartering equipment for youself for the weekend. For sailors on the beginners Reaching course you may end of sharing the equipment with up to one other sailor depending on demand. \nBefore you register please fill out this FORM if you are looking to charter WCF equipment. Afterwards you’ll hear back from the Organizing Authority on if there is still equipment avaialbe or if you will be sharing for the case of sailors on the reaching course. \n================================== \nDINNER:\nDue to the small group size no full dinner is offered\, but food may be ordered anytime from the Kitchen off the menu \n================================== \nSCHEDULE:\nSaturday  \n\n9:00 – 10:30 Sail Check and Check in  \n10:00 Coaches/Volunteers Meeting (Beside Dinghy shed) \n10:15 Skippers Meeting (Beside Dinghy shed) \n11:30 First Start \n\nSunday  \n\n9:30 Coaches/Volunteers Meeting (Beside Dinghy shed) \n11:00 First Start \n15:00 No warning signal sounded after 3:30pm\nAwards after racing\n\n  \nCHANGES TO RACE DOCUMENTS\nNOR Updated for WCF Charters – February 26th 2025 – KP
URL:https://wecanfoil.org/event/april-foils/
LOCATION:Victoria\, BC\, Victoria\, British Columbia\, Canada
ORGANIZER;CN="weCANfoil":MAILTO:events@wecanfoil.org
END:VEVENT
BEGIN:VEVENT
DTSTART;VALUE=DATE:20250227
DTEND;VALUE=DATE:20250303
DTSTAMP:20260423T162449
CREATED:20241023T172942Z
LAST-MODIFIED:20241023T173720Z
UID:10000091-1740614400-1740959999@wecanfoil.org
SUMMARY:Waszp North Americans - Pensacola Foiling Week
DESCRIPTION:As part of Pensacola Foiling Week\, the Waszp North Americans are happening in Florida this winter.
URL:https://wecanfoil.org/event/waszp-north-americans-pensacola-foiling-week/
ORGANIZER;CN="weCANfoil":MAILTO:events@wecanfoil.org
END:VEVENT
BEGIN:VEVENT
DTSTART;VALUE=DATE:20250120
DTEND;VALUE=DATE:20250502
DTSTAMP:20260423T162449
CREATED:20240925T002950Z
LAST-MODIFIED:20250406T020053Z
UID:10000083-1737331200-1746143999@wecanfoil.org
SUMMARY:Wingfoil kit SALE - Limited time offer!
DESCRIPTION:Got hooked to wingfoiling and ready to go foiling with your own North kit? Here is your chance to get your hands on premium equipment at a very low price! We are selling our 2024 North kits which were used for this summer and are in mint shape. \nAll North Kits are complete and ready to foil! \nPrices include taxes and you can just pick the kit up from your local WeCANFoil Hub and avoid shipping cost (subject to availability). Check out the description of the item to see availability in your region. \nNorth Kits include: \n\nBoard (Seek 5’4\, 5’11\, Prime 6’4 or Prime 6’10) with ankle leash.\nFoil Set: Sonar MA2100v2 Front Wing with AF72 Mast\n2 Wings (Nova 5M & 6M).\nPump\nMystic Helmet\nMystic board bag\nAnkle leash.\n\nSave $45 with e-transfer. Contact agustin@wecanfoil.org \nUpdated availability: \n\nSeek 5’4 kit: Vancouver-BC\, Toronto-ON and Halifax-NS.\nSeek 5’11 kit: Ottawa-ON.\nSeek Prime 6’4 kit: Victoria-BC\, Vancouver-BC\, Georgian Bay-ON\, Montreal-QC\, Carleton-QC and Halifax-NS.\nSeek Prime 6’10 kit: Vancouver-BC\, Toronto-ON\, Ottawa-ON and Halifax-NS.
URL:https://wecanfoil.org/event/wingfoil-kit-sale-limited-time-offer/
ORGANIZER;CN="weCANfoil":MAILTO:events@wecanfoil.org
END:VEVENT
BEGIN:VEVENT
DTSTART;VALUE=DATE:20250115
DTEND;VALUE=DATE:20250301
DTSTAMP:20260423T162449
CREATED:20250110T010150Z
LAST-MODIFIED:20250117T164839Z
UID:10000098-1736899200-1740787199@wecanfoil.org
SUMMARY:U21 Waszp Race Team
DESCRIPTION:U21 Waszp Race Team fees. \nHome
URL:https://wecanfoil.org/event/u21-waszp-race-team/
ORGANIZER;CN="weCANfoil":MAILTO:events@wecanfoil.org
END:VEVENT
BEGIN:VEVENT
DTSTART;VALUE=DATE:20250111
DTEND;VALUE=DATE:20250117
DTSTAMP:20260423T162449
CREATED:20250104T162926Z
LAST-MODIFIED:20250110T005938Z
UID:10000097-1736553600-1737071999@wecanfoil.org
SUMMARY:WingFoil / IQFoil Caribbean Camp
DESCRIPTION:Training camp for IQFoil and intermediate wing foiler. \nWhere? Cabarete\, Dominican Republic \nEquipment supplied! \nSchedule: \n10:30-16:00 \nArrival airport: POP (Puerto Plata\, DR). \nFor contact on accommodations and other details\, contact Aug agustin@wecanfoil.org
URL:https://wecanfoil.org/event/wingfoil-iqfoil-caribbean-camp/
ORGANIZER;CN="weCANfoil":MAILTO:events@wecanfoil.org
END:VEVENT
BEGIN:VEVENT
DTSTART;VALUE=DATE:20241226
DTEND;VALUE=DATE:20241231
DTSTAMP:20260423T162449
CREATED:20240905T145033Z
LAST-MODIFIED:20241204T152322Z
UID:10000081-1735171200-1735603199@wecanfoil.org
SUMMARY:Orange Bowl Regatta - Cancelled/Rescheduled
DESCRIPTION:Orange Bowl Regatta\, Miami. \nEvent cancelled due to not meeting minimum registrations. Possibly re-scheduled. \nMinimum 8 registrations by Dec 1. If event cancelled\, all entry fees will be reimbursed.
URL:https://wecanfoil.org/event/orange-bowl-regatta/
CATEGORIES:Regattas
ORGANIZER;CN="weCANfoil":MAILTO:events@wecanfoil.org
END:VEVENT
BEGIN:VEVENT
DTSTART;VALUE=DATE:20241220
DTEND;VALUE=DATE:20241224
DTSTAMP:20260423T162449
CREATED:20240905T144056Z
LAST-MODIFIED:20241220T001627Z
UID:10000080-1734652800-1734998399@wecanfoil.org
SUMMARY:Pre-Orange Bowl Clinic
DESCRIPTION:Waszp Clinic in preparation for Orange Bowl Regatta. \nLocation: Miami Yacht Club \nYou can pick among 2 levels: \nLearn To Foil Group: For those looking to get comfortable in the Waszp. \nFoil Race Group: For those looking to advance their racing skills in the Waszp. \nClinic Schedule: \nDec 20-23: 9:30-16:30 \nMinimum 6 registrations by Dec 1st to confirm the event. If event is cancelled\, all registrations fees will be reimbursed.
URL:https://wecanfoil.org/event/pre-orange-bowl-clinic/
CATEGORIES:Training Camps
ORGANIZER;CN="weCANfoil":MAILTO:events@wecanfoil.org
END:VEVENT
BEGIN:VEVENT
DTSTART;VALUE=DATE:20241028
DTEND;VALUE=DATE:20241031
DTSTAMP:20260423T162449
CREATED:20241023T134951Z
LAST-MODIFIED:20241023T140941Z
UID:10000090-1730073600-1730332799@wecanfoil.org
SUMMARY:Buzzards Bay Camp - Waszp
DESCRIPTION:Join us for a great event at Tavor Academy as we head south for the winter. Come train in Waszp!
URL:https://wecanfoil.org/event/buzzards-bay-camp-waszp/
ORGANIZER;CN="weCANfoil":MAILTO:events@wecanfoil.org
END:VEVENT
BEGIN:VEVENT
DTSTART;VALUE=DATE:20241019
DTEND;VALUE=DATE:20241021
DTSTAMP:20260423T162449
CREATED:20241018T192226Z
LAST-MODIFIED:20241018T192226Z
UID:10000087-1729296000-1729468799@wecanfoil.org
SUMMARY:Foil Fest - Comox BC
DESCRIPTION:Come and learn to foil with WeCANFoil at Comox Sailing Association. \nWaszp – IQFoil – Wingfoil!
URL:https://wecanfoil.org/event/foil-fest-comox-bc/
LOCATION:Comox\, BC\, Canada
CATEGORIES:Training Camps
ORGANIZER;CN="weCANfoil":MAILTO:events@wecanfoil.org
END:VEVENT
BEGIN:VEVENT
DTSTART;VALUE=DATE:20241012
DTEND;VALUE=DATE:20241015
DTSTAMP:20260423T162449
CREATED:20241003T123110Z
LAST-MODIFIED:20241018T192823Z
UID:10000085-1728691200-1728950399@wecanfoil.org
SUMMARY:Fall Foiling Clinic - Victoria\, BC
DESCRIPTION:Come try foiling in Victoria at the Royal Victoria Yacht Club! \nWaszp & Wingfoil. \nAmazing Coaches and welcoming enviorment! \nRegistration: https://forms.gle/PwEY79f923o1KUAv9
URL:https://wecanfoil.org/event/fall-foiling-clinic-victoria/
LOCATION:Victoria\, BC\, Victoria\, British Columbia\, Canada
CATEGORIES:Training Camps
ORGANIZER;CN="weCANfoil":MAILTO:events@wecanfoil.org
END:VEVENT
BEGIN:VEVENT
DTSTART;VALUE=DATE:20241011
DTEND;VALUE=DATE:20241014
DTSTAMP:20260423T162449
CREATED:20241008T150104Z
LAST-MODIFIED:20241018T192848Z
UID:10000086-1728604800-1728863999@wecanfoil.org
SUMMARY:Foiling Coach Dev Course - BC
DESCRIPTION:WeCANFoil\, in partnership with Sail Canada\, is hosting a CANSail Foiling Instructor Module on Oct 11-13th at Jericho Sailing Centre in Vancouver. This clinic is designed to train CANSail instructors to deliver the CANSail Foiling Module. \nEligible participants must:\n-Be a 16 or older\n-Have foiling experience\n-Be a Trained or Certified CANSail Instructor\, registered for 2024 \nRegister here: https://www.sailing.ca/sc_event/cansail-foiling-instructor-module-2/
URL:https://wecanfoil.org/event/foiling-coach-dev-course-bc/
LOCATION:Vancouver\, BC
CATEGORIES:Coaching clinics
ORGANIZER;CN="weCANfoil":MAILTO:events@wecanfoil.org
END:VEVENT
END:VCALENDAR