BEGIN:VCALENDAR
VERSION:2.0
PRODID:-// - ECPv6.15.20//NONSGML v1.0//EN
CALSCALE:GREGORIAN
METHOD:PUBLISH
X-ORIGINAL-URL:https://wecanfoil.org
X-WR-CALDESC:Events for 
REFRESH-INTERVAL;VALUE=DURATION:PT1H
X-Robots-Tag:noindex
X-PUBLISHED-TTL:PT1H
BEGIN:VTIMEZONE
TZID:America/Toronto
BEGIN:DAYLIGHT
TZOFFSETFROM:-0500
TZOFFSETTO:-0400
TZNAME:EDT
DTSTART:20250309T070000
END:DAYLIGHT
BEGIN:STANDARD
TZOFFSETFROM:-0400
TZOFFSETTO:-0500
TZNAME:EST
DTSTART:20251102T060000
END:STANDARD
BEGIN:DAYLIGHT
TZOFFSETFROM:-0500
TZOFFSETTO:-0400
TZNAME:EDT
DTSTART:20260308T070000
END:DAYLIGHT
BEGIN:STANDARD
TZOFFSETFROM:-0400
TZOFFSETTO:-0500
TZNAME:EST
DTSTART:20261101T060000
END:STANDARD
BEGIN:DAYLIGHT
TZOFFSETFROM:-0500
TZOFFSETTO:-0400
TZNAME:EDT
DTSTART:20270314T070000
END:DAYLIGHT
BEGIN:STANDARD
TZOFFSETFROM:-0400
TZOFFSETTO:-0500
TZNAME:EST
DTSTART:20271107T060000
END:STANDARD
END:VTIMEZONE
BEGIN:VEVENT
DTSTART;VALUE=DATE:20260613
DTEND;VALUE=DATE:20260622
DTSTAMP:20260423T125210
CREATED:20260203T104706Z
LAST-MODIFIED:20260203T104706Z
UID:10000129-1781308800-1782086399@wecanfoil.org
SUMMARY:FOIL4ALL
DESCRIPTION:Foil4All is an annual\, multi-day high-energy foiling and sailing festival delivered in partnership with The Boat School at the Maritime Museum of the Atlantic. Through new partnerships with local organizations\, the event creates a highly visible\, inclusive waterfront experience that opens access and opportunity to sailing and foiling\, encourages hands-on participation\, and aims to spark lasting impact and interest in the sport\, while connecting sailors and non-sailors alike with the excitement of being on the water ahead of the Canada Sail Grand Prix in Halifax.
URL:https://wecanfoil.org/event/foil4all/
LOCATION:Halifax Waterfront
ORGANIZER;CN="weCANfoil":MAILTO:events@wecanfoil.org
END:VEVENT
END:VCALENDAR