BEGIN:VCALENDAR
VERSION:2.0
PRODID:-// - ECPv6.15.20//NONSGML v1.0//EN
CALSCALE:GREGORIAN
METHOD:PUBLISH
X-ORIGINAL-URL:https://wecanfoil.org
X-WR-CALDESC:Events for 
REFRESH-INTERVAL;VALUE=DURATION:PT1H
X-Robots-Tag:noindex
X-PUBLISHED-TTL:PT1H
BEGIN:VTIMEZONE
TZID:America/Toronto
BEGIN:DAYLIGHT
TZOFFSETFROM:-0500
TZOFFSETTO:-0400
TZNAME:EDT
DTSTART:20220313T070000
END:DAYLIGHT
BEGIN:STANDARD
TZOFFSETFROM:-0400
TZOFFSETTO:-0500
TZNAME:EST
DTSTART:20221106T060000
END:STANDARD
BEGIN:DAYLIGHT
TZOFFSETFROM:-0500
TZOFFSETTO:-0400
TZNAME:EDT
DTSTART:20230312T070000
END:DAYLIGHT
BEGIN:STANDARD
TZOFFSETFROM:-0400
TZOFFSETTO:-0500
TZNAME:EST
DTSTART:20231105T060000
END:STANDARD
BEGIN:DAYLIGHT
TZOFFSETFROM:-0500
TZOFFSETTO:-0400
TZNAME:EDT
DTSTART:20240310T070000
END:DAYLIGHT
BEGIN:STANDARD
TZOFFSETFROM:-0400
TZOFFSETTO:-0500
TZNAME:EST
DTSTART:20241103T060000
END:STANDARD
END:VTIMEZONE
BEGIN:VEVENT
DTSTART;TZID=America/Toronto:20230718T163000
DTEND;TZID=America/Toronto:20230718T200000
DTSTAMP:20260424T033112
CREATED:20230711T031638Z
LAST-MODIFIED:20230717T031257Z
UID:10000025-1689697800-1689710400@wecanfoil.org
SUMMARY:Girls Go Foiling - Montreal - FREE
DESCRIPTION:Open to all girls age 13 and up with previous dinghy experience (Opti\, ILCA\, 420 or 29er)\, this demo will give everyone a taste and introduction to foiling with Waszp.\nCoach: Marion LaFrance-Berger – SailGP Inspire Coach and WeCANFoil Athlete. \nCome over and have lots of fun with other girls trying the Waszp! \n16:30 to 20:00 at the Royal St. Lawrence Yacht Club. \nWaszps provided by weCANfoil. \nIf you have any questions\, contact WCF Director: agustin@wecanfoil.org
URL:https://wecanfoil.org/event/girls-go-foiling-montreal-free/
LOCATION:Royal St. Lawrence Yacht Club\, Montreal\, Quebec
CATEGORIES:Demo - FREE,Female
ATTACH;FMTTYPE=image/jpeg:https://wecanfoil.org/wp-content/uploads/2023/07/IMG_3026-e1689138690547.jpeg
ORGANIZER;CN="weCANfoil":MAILTO:events@wecanfoil.org
GEO:45.4379658;-73.7543345
END:VEVENT
BEGIN:VEVENT
DTSTART;TZID=America/Toronto:20230724T163000
DTEND;TZID=America/Toronto:20230724T200000
DTSTAMP:20260424T033112
CREATED:20230711T033108Z
LAST-MODIFIED:20230719T203352Z
UID:10000026-1690216200-1690228800@wecanfoil.org
SUMMARY:Girls Go Foiling - Montreal - FREE
DESCRIPTION:Open to all girls age 13 and up with previous dinghy experience (Opti\, ILCA\, 420 or 29er)\, this demo will give everyone a taste and introduction to foiling with Waszp.\nCoach: Marion LaFrance-Berger – SailGP Inspire Coach and WeCANFoil Athlete. \nCome over and have lots of fun with other girls trying the Waszp! \n16:30 to 20:00 at the Royal St. Lawrence Yacht Club. \nWaszps provided by weCANfoil. \nIf you have any questions\, contact WCF Director: agustin@wecanfoil.org
URL:https://wecanfoil.org/event/girls-go-foiling-montreal-free-2/
LOCATION:Royal St. Lawrence Yacht Club\, Montreal\, Quebec
CATEGORIES:Demo - FREE,Female
ATTACH;FMTTYPE=image/jpeg:https://wecanfoil.org/wp-content/uploads/2023/07/IMG_3025-e1689138843192.jpeg
ORGANIZER;CN="weCANfoil":MAILTO:events@wecanfoil.org
GEO:45.4379658;-73.7543345
END:VEVENT
BEGIN:VEVENT
DTSTART;TZID=America/Toronto:20230725T163000
DTEND;TZID=America/Toronto:20230725T203000
DTSTAMP:20260424T033112
CREATED:20230722T160612Z
LAST-MODIFIED:20230724T200200Z
UID:10000032-1690302600-1690317000@wecanfoil.org
SUMMARY:Coaches Go Foiling - Montreal - FREE
DESCRIPTION:Open to all Instructors and coaches age 16 and up with previous dinghy experience (Opti\, ILCA\, 420 or 29er)\, this demo will give everyone a taste and introduction to foiling with Waszp.\nCoach: Marion LaFrance-Berger – SailGP Inspire Coach and WeCANFoil Athlete. \nCome over and have lots of fun with other coaches trying the Waszp! \n16:30 to 20:00 at the Royal St. Lawrence Yacht Club. \nWaszps provided by weCANfoil. \nIf you have any questions\, contact WCF Director: agustin@wecanfoil.org
URL:https://wecanfoil.org/event/coaches-go-foiling-montreal-free/
LOCATION:Royal St. Lawrence Yacht Club\, Montreal\, Quebec
CATEGORIES:Demo - FREE,Female
ATTACH;FMTTYPE=image/png:https://wecanfoil.org/wp-content/uploads/2023/04/weCANfoil_logo.png
ORGANIZER;CN="weCANfoil":MAILTO:events@wecanfoil.org
GEO:45.4379658;-73.7543345
END:VEVENT
BEGIN:VEVENT
DTSTART;VALUE=DATE:20230828
DTEND;VALUE=DATE:20230902
DTSTAMP:20260424T033112
CREATED:20230428T134104Z
LAST-MODIFIED:20230428T134104Z
UID:10000021-1693180800-1693612799@wecanfoil.org
SUMMARY:Girls Foiling Camp - LEAP Sailing
DESCRIPTION:5 Day Foiling Clinic at Girl’s Sailing Camp: 5 days of skill development with WASZPs and wingfoils provided by WeCANFoil. Your foiling coach will communicate with you by headset from the support boat. Previous foiling experience is not required\, however racing a skiff or dinghy is necessary for this clinic. If you can proficiently sail a skiff or dinghy\, learning to foil is the progression to high speed sailing. Introductory foiling demos will also be integrated into the general program\, as well as an opportunity to try Wingfoiling.\n\nRecommended sailing gear – dinghy PFD\, dinghy boots\, wetsuit\, helmet\n \nRegistration link; CLICK HERE\n 
URL:https://wecanfoil.org/event/girls-foiling-camp-leap-sailing/
LOCATION:Ashbridge’s Bay Yacht Club\, 30 Ashbridges Bay Park Rd\, Toronto\, Ontario\, M4L3W6\, Canada
CATEGORIES:Training Camps
ATTACH;FMTTYPE=image/jpeg:https://wecanfoil.org/wp-content/uploads/2023/04/ABYC_logo_stacked.jpg
ORGANIZER;CN="weCANfoil":MAILTO:events@wecanfoil.org
GEO:43.6587119;-79.3088585
X-APPLE-STRUCTURED-LOCATION;VALUE=URI;X-ADDRESS=Ashbridge’s Bay Yacht Club 30 Ashbridges Bay Park Rd Toronto Ontario M4L3W6 Canada;X-APPLE-RADIUS=500;X-TITLE=30 Ashbridges Bay Park Rd:geo:-79.3088585,43.6587119
END:VEVENT
END:VCALENDAR