BEGIN:VCALENDAR
VERSION:2.0
PRODID:-// - ECPv6.15.20//NONSGML v1.0//EN
CALSCALE:GREGORIAN
METHOD:PUBLISH
X-ORIGINAL-URL:https://wecanfoil.org
X-WR-CALDESC:Events for 
REFRESH-INTERVAL;VALUE=DURATION:PT1H
X-Robots-Tag:noindex
X-PUBLISHED-TTL:PT1H
BEGIN:VTIMEZONE
TZID:America/Toronto
BEGIN:DAYLIGHT
TZOFFSETFROM:-0500
TZOFFSETTO:-0400
TZNAME:EDT
DTSTART:20220313T070000
END:DAYLIGHT
BEGIN:STANDARD
TZOFFSETFROM:-0400
TZOFFSETTO:-0500
TZNAME:EST
DTSTART:20221106T060000
END:STANDARD
BEGIN:DAYLIGHT
TZOFFSETFROM:-0500
TZOFFSETTO:-0400
TZNAME:EDT
DTSTART:20230312T070000
END:DAYLIGHT
BEGIN:STANDARD
TZOFFSETFROM:-0400
TZOFFSETTO:-0500
TZNAME:EST
DTSTART:20231105T060000
END:STANDARD
BEGIN:DAYLIGHT
TZOFFSETFROM:-0500
TZOFFSETTO:-0400
TZNAME:EDT
DTSTART:20240310T070000
END:DAYLIGHT
BEGIN:STANDARD
TZOFFSETFROM:-0400
TZOFFSETTO:-0500
TZNAME:EST
DTSTART:20241103T060000
END:STANDARD
END:VTIMEZONE
BEGIN:VEVENT
DTSTART;VALUE=DATE:20230807
DTEND;VALUE=DATE:20230812
DTSTAMP:20260423T235309
CREATED:20230717T033732Z
LAST-MODIFIED:20230717T034423Z
UID:10000030-1691366400-1691798399@wecanfoil.org
SUMMARY:Kingston Foiling Juniors 1
DESCRIPTION:Learn to foil or improve your foiling skills at weCANfoil Hub in Kingston with KYC’s foiling program. \nCoach: Sue Fraser \nClick HERE for more info and registration 
URL:https://wecanfoil.org/event/kingston-foiling-juniors/
LOCATION:Ontario
CATEGORIES:Training Camps
ATTACH;FMTTYPE=image/jpeg:https://wecanfoil.org/wp-content/uploads/2023/07/IMG_3028.jpeg
ORGANIZER;CN="weCANfoil":MAILTO:events@wecanfoil.org
END:VEVENT
BEGIN:VEVENT
DTSTART;VALUE=DATE:20230731
DTEND;VALUE=DATE:20230803
DTSTAMP:20260423T235309
CREATED:20230426T001633Z
LAST-MODIFIED:20230717T041628Z
UID:10000016-1690761600-1691020799@wecanfoil.org
SUMMARY:Waszp Pre North Americans Clinic
DESCRIPTION:Waszp Tune-up Camp in preparation for North American Championship in Swampscott\, MA. \nWelcoming all Waszp sailors in 3 levels: \n1 Starting to foil: For those who are getting started and want to work on consistent foiling\, take off\, downwind & upwind. \n2 Starting to foil gybe & tack: For those working on their foiling gybes\, foiling tacks to achieve a dry lap. \n3 Dry laps: Improve your performance during your dry laps. \nSchedule: Mon\, Tue & Wed 10:00-16:00. \nCoaches: Agustin Ferrario
URL:https://wecanfoil.org/event/waszp-pre-north-americans-clinic/
LOCATION:Ontario
CATEGORIES:Training Camps
ATTACH;FMTTYPE=image/png:https://wecanfoil.org/wp-content/uploads/2023/04/WCF-Clinic-NAs-Swampscott-1-e1688186274856.png
ORGANIZER;CN="weCANfoil":MAILTO:events@wecanfoil.org
END:VEVENT
BEGIN:VEVENT
DTSTART;TZID=America/Toronto:20230705T100000
DTEND;TZID=America/Toronto:20230706T160000
DTSTAMP:20260423T235310
CREATED:20230425T200419Z
LAST-MODIFIED:20230622T120452Z
UID:10000009-1688551200-1688659200@wecanfoil.org
SUMMARY:Waszp Pre Canadians Camp
DESCRIPTION:Waszp Tune-up Camp in preparation for the Canadian Championship. \nWelcoming all Waszp sailors in 3 levels: \n1 Starting to foil: For those who are getting started and want to work on consistent foiling\, take off\, downwind & upwind. \n2 Starting to foil gybe & tack: For those working on their foiling gybes\, foiling tacks to achieve a dry lap. \n3 Dry laps: Improve your performance during your dry laps. \nSchedule: Wed & Thu 10:00-16:00. \nLocation: Kingston – Portsmouth Olympic Harbour \nCoaches: Agustin Ferrario + guest coaches. \n 
URL:https://wecanfoil.org/event/pre-canadians-camp/
LOCATION:Kingston POH\, 53 Yonge Street\, Kingston\, Ontario\, Canada
CATEGORIES:Training Camps
ATTACH;FMTTYPE=image/png:https://wecanfoil.org/wp-content/uploads/2023/04/Pre-CAN-camp-e1682546234785.png
ORGANIZER;CN="weCANfoil":MAILTO:events@wecanfoil.org
GEO:44.218563;-76.5176711
X-APPLE-STRUCTURED-LOCATION;VALUE=URI;X-ADDRESS=Kingston POH 53 Yonge Street Kingston Ontario Canada;X-APPLE-RADIUS=500;X-TITLE=53 Yonge Street:geo:-76.5176711,44.218563
END:VEVENT
BEGIN:VEVENT
DTSTART;TZID=America/Toronto:20230626T100000
DTEND;TZID=America/Toronto:20230628T160000
DTSTAMP:20260423T235310
CREATED:20230414T124206Z
LAST-MODIFIED:20230801T015904Z
UID:10000008-1687773600-1687968000@wecanfoil.org
SUMMARY:Waszp Pre Americas Camp
DESCRIPTION:Waszp Tune-up Camp in preparation for Americas Championship. \nWelcoming all Waszp sailors in 3 levels: \n1 Starting to foil: For those who are getting started and want to work on consistent foiling\, take off\, downwind & upwind. \n2 Starting to foil gybe & tack: For those working on their foiling gybes\, foiling tacks to achieve a dry lap. \n3 Dry laps: Improve your performance during your dry laps. \nSchedule: Mon\, Tue & Wed 10:00-16:00. \nLocation: Kingston – Portsmouth Olympic Harbour \nCoaches: Agustin Ferrario + Sue Fraser + guest coaches.
URL:https://wecanfoil.org/event/pre-americas-camp/
LOCATION:Kingston POH\, 53 Yonge Street\, Kingston\, Ontario\, Canada
CATEGORIES:Training Camps
ATTACH;FMTTYPE=image/png:https://wecanfoil.org/wp-content/uploads/2023/04/Pre-Americas-Camp-e1682545951644.png
ORGANIZER;CN="weCANfoil":MAILTO:events@wecanfoil.org
GEO:44.218563;-76.5176711
X-APPLE-STRUCTURED-LOCATION;VALUE=URI;X-ADDRESS=Kingston POH 53 Yonge Street Kingston Ontario Canada;X-APPLE-RADIUS=500;X-TITLE=53 Yonge Street:geo:-76.5176711,44.218563
END:VEVENT
BEGIN:VEVENT
DTSTART;VALUE=DATE:20230527
DTEND;VALUE=DATE:20230530
DTSTAMP:20260423T235310
CREATED:20230414T103554Z
LAST-MODIFIED:20230601T231447Z
UID:10000005-1685145600-1685404799@wecanfoil.org
SUMMARY:Foiling Skills Development Clinic
DESCRIPTION:Welcoming all sailors in 3 levels: \n\nStarting to foil: For those who are getting started and want to work on consistent foiling\, take off\, downwind & upwind.\nStarting to foil gybe & tack: For those working on their foiling gybes\, foiling tacks to achieve a dry lap.\nDry laps: Improve your performance during your dry laps.\n\nSchedule: \nFriday: 4pm-7pm. Check in and brief on clinic. Casual sailing to tune up boats. \nSat & Sun: 10am-4pm.
URL:https://wecanfoil.org/event/foiling-skills-development-clinic/
LOCATION:Pointe Claire Yacht Club\, 1 av. Cartier\, Pointe Claire\, QC\, H9S 4R3\, Canada
CATEGORIES:Training Camps
ATTACH;FMTTYPE=image/png:https://wecanfoil.org/wp-content/uploads/2023/04/weCANfoil_logo.png
ORGANIZER;CN="weCANfoil":MAILTO:events@wecanfoil.org
GEO:45.4284588;-73.8219542
X-APPLE-STRUCTURED-LOCATION;VALUE=URI;X-ADDRESS=Pointe Claire Yacht Club 1 av. Cartier Pointe Claire QC H9S 4R3 Canada;X-APPLE-RADIUS=500;X-TITLE=1 av. Cartier:geo:-73.8219542,45.4284588
END:VEVENT
BEGIN:VEVENT
DTSTART;VALUE=DATE:20230519
DTEND;VALUE=DATE:20230522
DTSTAMP:20260423T235310
CREATED:20230425T202330Z
LAST-MODIFIED:20230605T132932Z
UID:10000010-1684454400-1684713599@wecanfoil.org
SUMMARY:Waszp ACCs Regatta Coaching
DESCRIPTION:Coaching support for the Atlantic Coast Championships in Toms River. \nMorning briefing\, on water support with coach boat and daily debriefs. \nWelcoming all Waszp sailors in 3 levels: \n1 Starting to foil: For those who are getting started and want to work on consistent foiling\, take off\, downwind & upwind. \n2 Starting to foil gybe & tack: For those working on their foiling gybes\, foiling tacks to achieve a dry lap. \n3 Dry laps: Improve your performance during your dry laps. \nSchedule: Will be communicated based on the needs of the regatta. \nCoaches: Agustin Ferrario + guest coach as needed.
URL:https://wecanfoil.org/event/accs-regatta-coaching/
LOCATION:Toms River Yacht Club\, 1464 Riviera Ave\, Toms River\, NJ\, 08753\, United States
CATEGORIES:Training Camps
ATTACH;FMTTYPE=image/png:https://wecanfoil.org/wp-content/uploads/2023/04/weCANfoil_logo.png
ORGANIZER;CN="weCANfoil":MAILTO:events@wecanfoil.org
GEO:39.9455311;-74.1599007
X-APPLE-STRUCTURED-LOCATION;VALUE=URI;X-ADDRESS=Toms River Yacht Club 1464 Riviera Ave Toms River NJ 08753 United States;X-APPLE-RADIUS=500;X-TITLE=1464 Riviera Ave:geo:-74.1599007,39.9455311
END:VEVENT
BEGIN:VEVENT
DTSTART;VALUE=DATE:20230517
DTEND;VALUE=DATE:20230519
DTSTAMP:20260423T235310
CREATED:20230414T104510Z
LAST-MODIFIED:20230601T231009Z
UID:10000007-1684281600-1684454399@wecanfoil.org
SUMMARY:Waszp Pre-ACCs clinic
DESCRIPTION:Waszp Tune-up Camp in preparation for ACCs. \nWelcoming all Waszp sailors in 3 levels: \n\nStarting to foil: For those who are getting started and want to work on consistent foiling\, take off\, downwind & upwind.\nStarting to foil gybe & tack: For those working on their foiling gybes\, foiling tacks to achieve a dry lap.\nDry laps: Improve your performance during your dry laps.\n\nSchedule: Wed & Thu 10:00-16:00. \nCoaches: Agustin Ferrario + guest coaches as needed.
URL:https://wecanfoil.org/event/pre-accs-clinic/
LOCATION:Toms River Yacht Club\, 1464 Riviera Ave\, Toms River\, NJ\, 08753\, United States
CATEGORIES:Training Camps
ATTACH;FMTTYPE=image/png:https://wecanfoil.org/wp-content/uploads/2023/04/Pre-ACCs-Clinic-e1682470279125.png
ORGANIZER;CN="weCANfoil":MAILTO:events@wecanfoil.org
GEO:39.9455311;-74.1599007
X-APPLE-STRUCTURED-LOCATION;VALUE=URI;X-ADDRESS=Toms River Yacht Club 1464 Riviera Ave Toms River NJ 08753 United States;X-APPLE-RADIUS=500;X-TITLE=1464 Riviera Ave:geo:-74.1599007,39.9455311
END:VEVENT
BEGIN:VEVENT
DTSTART;VALUE=DATE:20230509
DTEND;VALUE=DATE:20230515
DTSTAMP:20260423T235310
CREATED:20230510T132628Z
LAST-MODIFIED:20230513T234500Z
UID:10000022-1683590400-1684108799@wecanfoil.org
SUMMARY:Halifax Waszp & Nacra Camp
DESCRIPTION:Waszp Camp in preparation for ACCs. \nWelcoming all Waszp sailors in 3 levels: \n\nStarting to foil: For those who are getting started and want to work on consistent foiling\, take off\, downwind & upwind.\nStarting to foil gybe & tack: For those working on their foiling gybes\, foiling tacks to achieve a dry lap.\nDry laps: Improve your performance during your dry laps.\n\nSchedule: Tue to Fri 16:00-19:30. Sat & Sun 11:00-16:00 \nCoaches: Agustin Ferrario \nMore info: Canadian Foiling Academy
URL:https://wecanfoil.org/event/halifax-waszp-camp/
LOCATION:Royal Nova Scotia Yacht Squadron\, 2372 Purcells Cove Rd\, Halifax\, Nova Scotia\, B3P 1C7\, Canada
CATEGORIES:Training Camps
ATTACH;FMTTYPE=image/png:https://wecanfoil.org/wp-content/uploads/2023/04/weCANfoil_logo.png
ORGANIZER;CN="weCANfoil":MAILTO:events@wecanfoil.org
GEO:44.6213542;-63.5819457
X-APPLE-STRUCTURED-LOCATION;VALUE=URI;X-ADDRESS=Royal Nova Scotia Yacht Squadron 2372 Purcells Cove Rd Halifax Nova Scotia B3P 1C7 Canada;X-APPLE-RADIUS=500;X-TITLE=2372 Purcells Cove Rd:geo:-63.5819457,44.6213542
END:VEVENT
END:VCALENDAR